BEGIN:VCALENDAR
VERSION:2.0
PRODID:-//wp-events-plugin.com//7.2.3.1//EN
BEGIN:VEVENT
UID:31@tuwn.ie
DTSTART:20251024T160000Z
DTEND:20251024T160000Z
DTSTAMP:20251022T231135Z
URL:https://tuwn.ie/events/the-future-of-ageing-in-africa-are-we-ready/
SUMMARY:The Future of Ageing in Africa – Are We Ready
DESCRIPTION:Join leading experts\, policymakers\, and innovators as we expl
 ore opportunities to build responsive and integrated care systems for olde
 r people across Africa.
ATTACH;FMTTYPE=image/jpeg:https://tuwn.ie/wp-content/uploads/2025/10/Futur
 e-of-Aging-in-Africa.png
CATEGORIES:Health
END:VEVENT
END:VCALENDAR