BEGIN:VCALENDAR
VERSION:2.0
PRODID:-//wp-events-plugin.com//7.2.3.1//EN
BEGIN:VEVENT
UID:23@tuwn.ie
DTSTART:20250719T080000Z
DTEND:20250719T130000Z
DTSTAMP:20250709T172139Z
URL:https://tuwn.ie/events/s-o-s-save-our-sons-or-daughters/
SUMMARY:S.O.S – Save Our Sons (or Daughters)
DESCRIPTION:A Call to Stand in the Gap for the Next Generation and family p
 rayers 
ATTACH;FMTTYPE=image/jpeg:https://tuwn.ie/wp-content/uploads/2025/07/SOS-p
 rayer-meeting.jpg
CATEGORIES:Faith
LOCATION:https://www.google.com/maps/place/Lucan+Spa+Hotel+Dublin/@53.35584
 67,-6.4634757,17z/data=!3m1!4b1!4m9!3m8!1s0x48670d2ec523ab61:0xb74a80a13ce
 4ff8d!5m2!4m1!1i2!8m2!3d53.3558467!4d-6.4634757!16s%2Fg%2F1ptvwx86f?entry=
 ttu&g_ep=EgoyMDI1MDcwNi4wIKXMDSoASAFQAw%3D%3D
END:VEVENT
END:VCALENDAR