BEGIN:VCALENDAR
VERSION:2.0
PRODID:-//wp-events-plugin.com//7.2.3.1//EN
BEGIN:VEVENT
UID:26@tuwn.ie
DTSTART:20250719T110000Z
DTEND:20250719T120000Z
DTSTAMP:20250716T185945Z
URL:https://tuwn.ie/events/free-webinar-event-legal-design-developing-your
 -innovative-and-entrepreneurial-skills/
SUMMARY:Legal Design: Developing Your Innovative And Entrepreneurial Skills
DESCRIPTION:Free Webinar: Explores the intersection of legal practice and d
 esign thinking
ATTACH;FMTTYPE=image/jpeg:https://tuwn.ie/wp-content/uploads/2025/07/Legal
 -design-2.jpg
CATEGORIES:Technology
END:VEVENT
END:VCALENDAR